BEGIN:VCALENDAR
VERSION:2.0
PRODID:-//Le TransiStore - ECPv6.15.17.1//NONSGML v1.0//EN
CALSCALE:GREGORIAN
METHOD:PUBLISH
X-WR-CALNAME:Le TransiStore
X-ORIGINAL-URL:https://www.letransistore.org
X-WR-CALDESC:Évènements pour Le TransiStore
REFRESH-INTERVAL;VALUE=DURATION:PT1H
X-Robots-Tag:noindex
X-PUBLISHED-TTL:PT1H
BEGIN:VTIMEZONE
TZID:Europe/Paris
BEGIN:DAYLIGHT
TZOFFSETFROM:+0100
TZOFFSETTO:+0200
TZNAME:CEST
DTSTART:20240331T010000
END:DAYLIGHT
BEGIN:STANDARD
TZOFFSETFROM:+0200
TZOFFSETTO:+0100
TZNAME:CET
DTSTART:20241027T010000
END:STANDARD
BEGIN:DAYLIGHT
TZOFFSETFROM:+0100
TZOFFSETTO:+0200
TZNAME:CEST
DTSTART:20250330T010000
END:DAYLIGHT
BEGIN:STANDARD
TZOFFSETFROM:+0200
TZOFFSETTO:+0100
TZNAME:CET
DTSTART:20251026T010000
END:STANDARD
BEGIN:DAYLIGHT
TZOFFSETFROM:+0100
TZOFFSETTO:+0200
TZNAME:CEST
DTSTART:20260329T010000
END:DAYLIGHT
BEGIN:STANDARD
TZOFFSETFROM:+0200
TZOFFSETTO:+0100
TZNAME:CET
DTSTART:20261025T010000
END:STANDARD
END:VTIMEZONE
BEGIN:VEVENT
DTSTART;TZID=Europe/Paris:20250512T180000
DTEND;TZID=Europe/Paris:20250512T200000
DTSTAMP:20260422T105802
CREATED:20250423T075049Z
LAST-MODIFIED:20250510T144158Z
UID:7887-1747072800-1747080000@www.letransistore.org
SUMMARY:Atelier d'écriture éco-anxiété - Annulé
DESCRIPTION:ATELIER ANNULE\nEn raison d’un trop faible nombre d’inscrits\, l’atelier est annulé. Merci de votre compréhension \n—\nAvec une touche d’humour et sans pression\, Venez transformer les inquiétudes en partage et en imagination collective. \nGratuit\, sur inscription obligatoire sur animation@letransistore.org
URL:https://www.letransistore.org/event/atelier-decriture-eco-anxiete/
LOCATION:Salle Saint Michel\, 10 Bis av Gare\, la Chapelle sur Erdre\, 44240\, France
ATTACH;FMTTYPE=image/png:https://www.letransistore.org/wp-content/uploads/Atelier-ecriture-eco-anxiete-2.png
END:VEVENT
END:VCALENDAR