BEGIN:VCALENDAR
VERSION:2.0
PRODID:-//Le TransiStore - ECPv6.15.17.1//NONSGML v1.0//EN
CALSCALE:GREGORIAN
METHOD:PUBLISH
X-ORIGINAL-URL:https://www.letransistore.org
X-WR-CALDESC:Évènements pour Le TransiStore
REFRESH-INTERVAL;VALUE=DURATION:PT1H
X-Robots-Tag:noindex
X-PUBLISHED-TTL:PT1H
BEGIN:VTIMEZONE
TZID:Europe/Paris
BEGIN:DAYLIGHT
TZOFFSETFROM:+0100
TZOFFSETTO:+0200
TZNAME:CEST
DTSTART:20240331T010000
END:DAYLIGHT
BEGIN:STANDARD
TZOFFSETFROM:+0200
TZOFFSETTO:+0100
TZNAME:CET
DTSTART:20241027T010000
END:STANDARD
BEGIN:DAYLIGHT
TZOFFSETFROM:+0100
TZOFFSETTO:+0200
TZNAME:CEST
DTSTART:20250330T010000
END:DAYLIGHT
BEGIN:STANDARD
TZOFFSETFROM:+0200
TZOFFSETTO:+0100
TZNAME:CET
DTSTART:20251026T010000
END:STANDARD
BEGIN:DAYLIGHT
TZOFFSETFROM:+0100
TZOFFSETTO:+0200
TZNAME:CEST
DTSTART:20260329T010000
END:DAYLIGHT
BEGIN:STANDARD
TZOFFSETFROM:+0200
TZOFFSETTO:+0100
TZNAME:CET
DTSTART:20261025T010000
END:STANDARD
END:VTIMEZONE
BEGIN:VEVENT
DTSTART;TZID=Europe/Paris:20251118T140000
DTEND;TZID=Europe/Paris:20251118T170000
DTSTAMP:20260421T120607
CREATED:20251015T143818Z
LAST-MODIFIED:20251018T080744Z
UID:8749-1763474400-1763485200@www.letransistore.org
SUMMARY:Atelier couture by Denise
DESCRIPTION:Atelier pour apprendre à réparer (ou customiser) son vêtement.\nPour les personnes sachant déjà utiliser une machine a coudre.
URL:https://www.letransistore.org/event/atelier-couture-by-denise-10/
ATTACH;FMTTYPE=image/png:https://www.letransistore.org/wp-content/uploads/Atelier-couture-1811-1.png
END:VEVENT
END:VCALENDAR