BEGIN:VCALENDAR
VERSION:2.0
PRODID:-//Le TransiStore - ECPv6.15.17.1//NONSGML v1.0//EN
CALSCALE:GREGORIAN
METHOD:PUBLISH
X-ORIGINAL-URL:https://www.letransistore.org
X-WR-CALDESC:Évènements pour Le TransiStore
REFRESH-INTERVAL;VALUE=DURATION:PT1H
X-Robots-Tag:noindex
X-PUBLISHED-TTL:PT1H
BEGIN:VTIMEZONE
TZID:Europe/Paris
BEGIN:DAYLIGHT
TZOFFSETFROM:+0100
TZOFFSETTO:+0200
TZNAME:CEST
DTSTART:20240331T010000
END:DAYLIGHT
BEGIN:STANDARD
TZOFFSETFROM:+0200
TZOFFSETTO:+0100
TZNAME:CET
DTSTART:20241027T010000
END:STANDARD
BEGIN:DAYLIGHT
TZOFFSETFROM:+0100
TZOFFSETTO:+0200
TZNAME:CEST
DTSTART:20250330T010000
END:DAYLIGHT
BEGIN:STANDARD
TZOFFSETFROM:+0200
TZOFFSETTO:+0100
TZNAME:CET
DTSTART:20251026T010000
END:STANDARD
BEGIN:DAYLIGHT
TZOFFSETFROM:+0100
TZOFFSETTO:+0200
TZNAME:CEST
DTSTART:20260329T010000
END:DAYLIGHT
BEGIN:STANDARD
TZOFFSETFROM:+0200
TZOFFSETTO:+0100
TZNAME:CET
DTSTART:20261025T010000
END:STANDARD
END:VTIMEZONE
BEGIN:VEVENT
DTSTART;TZID=Europe/Paris:20251126T150000
DTEND;TZID=Europe/Paris:20251126T160000
DTSTAMP:20260421T120606
CREATED:20251015T100256Z
LAST-MODIFIED:20251018T080435Z
UID:8728-1764169200-1764172800@www.letransistore.org
SUMMARY:Atelier Tawashi
DESCRIPTION:Venez vous initier à la création d’éponges écologiques en utilisant la technique japonaise Tawashi à base de tissu de réemploi. \n \n\n 
URL:https://www.letransistore.org/event/atelier-tawashi-2/
LOCATION:la Ressourcerie du TransiStore\, 14 Rue Kepler\, La Chapelle Sur Erdre\, 44240\, France
ATTACH;FMTTYPE=image/png:https://www.letransistore.org/wp-content/uploads/Atelier-tawashi-261125-1.png
END:VEVENT
END:VCALENDAR