BEGIN:VCALENDAR
VERSION:2.0
PRODID:-//Le TransiStore - ECPv6.15.17.1//NONSGML v1.0//EN
CALSCALE:GREGORIAN
METHOD:PUBLISH
X-WR-CALNAME:Le TransiStore
X-ORIGINAL-URL:https://www.letransistore.org
X-WR-CALDESC:Évènements pour Le TransiStore
REFRESH-INTERVAL;VALUE=DURATION:PT1H
X-Robots-Tag:noindex
X-PUBLISHED-TTL:PT1H
BEGIN:VTIMEZONE
TZID:Europe/Paris
BEGIN:DAYLIGHT
TZOFFSETFROM:+0100
TZOFFSETTO:+0200
TZNAME:CEST
DTSTART:20250330T010000
END:DAYLIGHT
BEGIN:STANDARD
TZOFFSETFROM:+0200
TZOFFSETTO:+0100
TZNAME:CET
DTSTART:20251026T010000
END:STANDARD
BEGIN:DAYLIGHT
TZOFFSETFROM:+0100
TZOFFSETTO:+0200
TZNAME:CEST
DTSTART:20260329T010000
END:DAYLIGHT
BEGIN:STANDARD
TZOFFSETFROM:+0200
TZOFFSETTO:+0100
TZNAME:CET
DTSTART:20261025T010000
END:STANDARD
BEGIN:DAYLIGHT
TZOFFSETFROM:+0100
TZOFFSETTO:+0200
TZNAME:CEST
DTSTART:20270328T010000
END:DAYLIGHT
BEGIN:STANDARD
TZOFFSETFROM:+0200
TZOFFSETTO:+0100
TZNAME:CET
DTSTART:20271031T010000
END:STANDARD
END:VTIMEZONE
BEGIN:VEVENT
DTSTART;TZID=Europe/Paris:20260210T140000
DTEND;TZID=Europe/Paris:20260210T170000
DTSTAMP:20260421T120027
CREATED:20260123T133622Z
LAST-MODIFIED:20260123T134640Z
UID:9148-1770732000-1770742800@www.letransistore.org
SUMMARY:Atelier couture
DESCRIPTION:Atelier réparation de vêtement ! Venez créer votre pantalon avec notre bénévole Denise ! \n\n\nGratuit sur inscription obligatoire \n\n\nressourcerie@letransistore.org \n\n\n\nRendez vous à la ressourcerie  Mardi 10 février de 14h à 17h
URL:https://www.letransistore.org/event/atelier-couture-4/
LOCATION:14 rue Kepler\, Chapelle sur Erdre\, 14 rue Kepler\, La Chapelle-sur-Erdre\, 44035\, France
ATTACH;FMTTYPE=image/png:https://www.letransistore.org/wp-content/uploads/Atelier-couture-1002.png
END:VEVENT
END:VCALENDAR