BEGIN:VCALENDAR
VERSION:2.0
PRODID:-//Le TransiStore - ECPv6.15.17.1//NONSGML v1.0//EN
CALSCALE:GREGORIAN
METHOD:PUBLISH
X-WR-CALNAME:Le TransiStore
X-ORIGINAL-URL:https://www.letransistore.org
X-WR-CALDESC:Évènements pour Le TransiStore
REFRESH-INTERVAL;VALUE=DURATION:PT1H
X-Robots-Tag:noindex
X-PUBLISHED-TTL:PT1H
BEGIN:VTIMEZONE
TZID:Europe/Paris
BEGIN:DAYLIGHT
TZOFFSETFROM:+0100
TZOFFSETTO:+0200
TZNAME:CEST
DTSTART:20240331T010000
END:DAYLIGHT
BEGIN:STANDARD
TZOFFSETFROM:+0200
TZOFFSETTO:+0100
TZNAME:CET
DTSTART:20241027T010000
END:STANDARD
BEGIN:DAYLIGHT
TZOFFSETFROM:+0100
TZOFFSETTO:+0200
TZNAME:CEST
DTSTART:20250330T010000
END:DAYLIGHT
BEGIN:STANDARD
TZOFFSETFROM:+0200
TZOFFSETTO:+0100
TZNAME:CET
DTSTART:20251026T010000
END:STANDARD
BEGIN:DAYLIGHT
TZOFFSETFROM:+0100
TZOFFSETTO:+0200
TZNAME:CEST
DTSTART:20260329T010000
END:DAYLIGHT
BEGIN:STANDARD
TZOFFSETFROM:+0200
TZOFFSETTO:+0100
TZNAME:CET
DTSTART:20261025T010000
END:STANDARD
END:VTIMEZONE
BEGIN:VEVENT
DTSTART;VALUE=DATE:20251204
DTEND;VALUE=DATE:20251208
DTSTAMP:20260421T120210
CREATED:20251122T134401Z
LAST-MODIFIED:20251122T134401Z
UID:8868-1764806400-1765151999@www.letransistore.org
SUMMARY:Marché de noël " L'autre marché" !
DESCRIPTION:Venez rendre visite à notre stand au marché de noël de « L’autre marché » !
URL:https://www.letransistore.org/event/marche-de-noel-lautre-marche/
LOCATION:Nantes-Bouffay\, Nantes-Bouffay\, Nantes\, 44000
ATTACH;FMTTYPE=image/png:https://www.letransistore.org/wp-content/uploads/lautre-marche-.png
END:VEVENT
BEGIN:VEVENT
DTSTART;TZID=Europe/Paris:20251210T100000
DTEND;TZID=Europe/Paris:20251213T200000
DTSTAMP:20260421T120210
CREATED:20251122T141008Z
LAST-MODIFIED:20251122T141008Z
UID:8904-1765360800-1765656000@www.letransistore.org
SUMMARY:Marché de noël du Sillon de Bretagne !
DESCRIPTION:La Ressourcerie du TransiStore sera présente au marché de noël « Sillon de Bretagne » !
URL:https://www.letransistore.org/event/marche-de-noel-du-sillon-de-bretagne/
LOCATION:Saint-Herblain\, 8 avenue des Thébaudières\, Saint-Herblain\, 44800
ATTACH;FMTTYPE=image/png:https://www.letransistore.org/wp-content/uploads/Affiche-marche-de-noel-de-Sillon-3-1.png
END:VEVENT
BEGIN:VEVENT
DTSTART;TZID=Europe/Paris:20251212T150000
DTEND;TZID=Europe/Paris:20251213T183000
DTSTAMP:20260421T120210
CREATED:20251122T140239Z
LAST-MODIFIED:20251122T140239Z
UID:8892-1765551600-1765650600@www.letransistore.org
SUMMARY:Marché de noël de Biocoop !
DESCRIPTION:La Ressourcerie du TransiStore sera présente au marché de noël de Biocoop !
URL:https://www.letransistore.org/event/marche-de-noel-de-biocoop/
LOCATION:Nantes\, Rue du Marché commun\, Nantes
ATTACH;FMTTYPE=image/png:https://www.letransistore.org/wp-content/uploads/Marche-biocoop-1213122025.png
END:VEVENT
BEGIN:VEVENT
DTSTART;TZID=Europe/Paris:20251216T080000
DTEND;TZID=Europe/Paris:20251216T170000
DTSTAMP:20260421T120210
CREATED:20251211T093009Z
LAST-MODIFIED:20251211T093037Z
UID:8944-1765872000-1765904400@www.letransistore.org
SUMMARY:Fermeture exceptionnelle du comptoir de dons
DESCRIPTION:En raison d’un effectif RH trop restreint\, le comptoir de dons sera fermé\n– Mardi 16 décembre\n– Mardi 23 et mercredi 24 décembre\n– Mardi 30 et mercredi 31 décembre \nMerci de votre compréhension \n 
URL:https://www.letransistore.org/event/fermeture-exceptionnelle-du-comptoir-de-dons/
ATTACH;FMTTYPE=image/png:https://www.letransistore.org/wp-content/uploads/Horaires-speciaux-Decembre-2025.png
END:VEVENT
BEGIN:VEVENT
DTSTART;TZID=Europe/Paris:20251216T140000
DTEND;TZID=Europe/Paris:20251216T170000
DTSTAMP:20260421T120210
CREATED:20251122T092406Z
LAST-MODIFIED:20251122T092406Z
UID:8850-1765893600-1765904400@www.letransistore.org
SUMMARY:Atelier couture
DESCRIPTION:Atelier couture avec Denise à la ressourcerie du TransiStore le 16 décembre de 14h à17h. Venez fabriquer votre sac avec des canevas. \nGratuit sur inscription obligatoire à ressourcerie@letransistore.org
URL:https://www.letransistore.org/event/atelier-couture-2/
LOCATION:la Ressourcerie du TransiStore\, 14 Rue Kepler\, La Chapelle Sur Erdre\, 44240\, France
ATTACH;FMTTYPE=image/png:https://www.letransistore.org/wp-content/uploads/Atelier-couture-16122025.png
END:VEVENT
BEGIN:VEVENT
DTSTART;TZID=Europe/Paris:20251219T153000
DTEND;TZID=Europe/Paris:20251219T173000
DTSTAMP:20260421T120210
CREATED:20251122T092344Z
LAST-MODIFIED:20251211T093349Z
UID:8843-1766158200-1766165400@www.letransistore.org
SUMMARY:Atelier Furoshiki !
DESCRIPTION:  Venez participer à notre atelier gratuit pour apprendre la technique d’emballage Furoshiki\,le vendredi 19 décembre de 15h30 à 17h30.\nRDV dans la boutique de La Ressourcerie du TransiStore \n  \n \n  \n 
URL:https://www.letransistore.org/event/atelier-furoshiki/
LOCATION:la Ressourcerie du TransiStore\, 14 Rue Kepler\, La Chapelle Sur Erdre\, 44240\, France
ATTACH;FMTTYPE=image/png:https://www.letransistore.org/wp-content/uploads/Animation-Furoshiki-19122025.png
END:VEVENT
BEGIN:VEVENT
DTSTART;TZID=Europe/Paris:20251220T143000
DTEND;TZID=Europe/Paris:20251220T153000
DTSTAMP:20260421T120210
CREATED:20251122T103535Z
LAST-MODIFIED:20251211T093634Z
UID:8862-1766241000-1766244600@www.letransistore.org
SUMMARY:Visite guidée de la ressourcerie
DESCRIPTION:Venez participer à notre visite guidée pour en apprendre un peu plus sur le mode de fonctionnement de la ressourcerie !\nN’oubliez pas de vous inscrire via l’adresse mail suivante : ressourcerie@letransistore.org. Gratuit.
URL:https://www.letransistore.org/event/visite-guidee-2/
LOCATION:la Ressourcerie du TransiStore\, 14 Rue Kepler\, La Chapelle Sur Erdre\, 44240\, France
ATTACH;FMTTYPE=image/png:https://www.letransistore.org/wp-content/uploads/Visite-guidee-20122025.png
END:VEVENT
BEGIN:VEVENT
DTSTART;TZID=Europe/Paris:20251222T100000
DTEND;TZID=Europe/Paris:20251223T120000
DTSTAMP:20260421T120210
CREATED:20251203T130026Z
LAST-MODIFIED:20251211T093144Z
UID:8934-1766397600-1766491200@www.letransistore.org
SUMMARY:Atelier jeu de Tock !
DESCRIPTION:Le TransiStore accompagnera la Maison Pour Tous lors d’un atelier de fabrication d’un Tock ( jeu en bois ) pour vous ou pour offrir. \nA partir de 7 ans – Sur inscription – 3 euros par famille – animation@letransistore.org \nRendez-vous à la Cabane à jeu -10 rue François Clouet.
URL:https://www.letransistore.org/event/atelier-jeu-de-trock/
LOCATION:la Cabane à Jeux\, La Chapelle Sur Erdre
ATTACH;FMTTYPE=image/png:https://www.letransistore.org/wp-content/uploads/atelier-jeu-de-trock.png
ORGANIZER;CN="La Maison Pour Tous":MAILTO:contact@mptlachapelle.com
END:VEVENT
END:VCALENDAR